BEGIN:VCALENDAR
VERSION:2.0
PRODID:-//ChamberMaster//Event Calendar 2.0//EN
METHOD:PUBLISH
X-PUBLISHED-TTL:P3D
REFRESH-INTERVAL:P3D
CALSCALE:GREGORIAN
BEGIN:VEVENT
DTSTART:20250509T130000Z
DTEND:20250509T200000Z
X-MICROSOFT-CDO-ALLDAYEVENT:FALSE
SUMMARY:11th Annual Elder Advocacy & Law Boot Camp
DESCRIPTION:Michigan's Top CEU Event for Elder Care Professionals Connect\, Learn\, and Share - Expand Your Expertise in Elder Care! Earn 5 CEUs (pending approval) for Licensed Social Workers\, Nursing Home Administrators and Certified Senior Advisors. Don't miss this opportunity to enhance your skills and knowledge while networking with fellow professionals. In-person & Virtual Registrations What to expect in 2025? - Power of Attorney & substitute decision making - VA Benefits\, Medicare & Medicaid Insights - Dementia care strategies for well-being and safety - Hot topics in senior care & elder law... and MORE Why you should attend? - Understand who can and should make critical decisions for aging adults. - Learn about Power of Attorney\, Guardianship\, and Family Decision-Making processes. - Get expert guidance on applying for Medicaid and Veteran benefits - Discover key insights on Medicaid\, real estate Lady Bird Deeds\, and more. - Explore new and innovative ways to protect the aging adult community. - Gain essential legal knowledge tailored for social workers\, nursing home administrators and elder care professionals. - Stay informed on hot topics in elder law\, caregiving\, and long-term care trends.
X-ALT-DESC;FMTTYPE=text/html:Michigan&#39\;s Top CEU Event for Elder Care Professionals Connect\, Learn\, and Share - Expand Your Expertise in Elder Care! Earn 5 CEUs (pending approval) for Licensed Social Workers\, Nursing Home Administrators and Certified Senior Advisors. Don&#39\;t miss this opportunity to enhance your skills and knowledge while networking with fellow professionals. In-person &amp\; Virtual Registrations What to expect in 2025? - Power of Attorney &amp\; substitute decision making - VA Benefits\, Medicare &amp\; Medicaid Insights - Dementia care strategies for well-being and safety - Hot topics in senior care &amp\; elder law... and MORE Why you should attend? - Understand who can and should make critical decisions for aging adults. - Learn about Power of Attorney\, Guardianship\, and Family Decision-Making processes. - Get expert guidance on applying for Medicaid and Veteran benefits - Discover key insights on Medicaid\, real estate Lady Bird Deeds\, and more. - Explore new and innovative ways to protect the aging adult community. - Gain essential legal knowledge tailored for social workers\, nursing home administrators and elder care professionals. - Stay informed on hot topics in elder law\, caregiving\, and long-term care trends.
LOCATION:Genesys Banquet Center
UID:e.2903.6056
SEQUENCE:3
DTSTAMP:20260422T060642Z
URL:https://business.grandblancchamberofcommerce.com/events/details/11th-annual-elder-advocacy-law-boot-camp-6056
END:VEVENT

END:VCALENDAR
