BEGIN:VCALENDAR
VERSION:2.0
PRODID:-//ChamberMaster//Event Calendar 2.0//EN
METHOD:PUBLISH
X-PUBLISHED-TTL:P3D
REFRESH-INTERVAL:P3D
CALSCALE:GREGORIAN
BEGIN:VEVENT
DTSTART;VALUE=DATE:20240531
DTEND;VALUE=DATE:20240601
TRANSP:TRANSPARENT
X-MICROSOFT-CDO-ALLDAYEVENT:TRUE
SUMMARY:Annual Golf Outing
DESCRIPTION:FORE!!!!\n\nJoin us for our annual  golf outing for a day on the links!  Each year we sell out all 144 spots and this year will be no different! \n\nThere will be food\, drinks\, prizes\, and lots of laughs- and maybe some golf in between!
X-ALT-DESC;FMTTYPE=text/html:FORE!!!!<br />\nJoin us for our annual&nbsp\; golf outing for a day on the links!&nbsp\; Each year we sell out all 144 spots and this year will be no different!&nbsp\;<br />\nThere will be food\, drinks\, prizes\, and lots of laughs- and maybe some golf in between!<br />\n<br />\n&nbsp\;
LOCATION:Atlas Valley Golf Club 8313 Perry Road Grand Blanc\, Michigan 48439
UID:e.2903.5111
SEQUENCE:3
DTSTAMP:20260423T033707Z
URL:https://business.grandblancchamberofcommerce.com/events/details/annual-golf-outing-5111
END:VEVENT

END:VCALENDAR
