BEGIN:VCALENDAR
VERSION:2.0
PRODID:-//ChamberMaster//Event Calendar 2.0//EN
METHOD:PUBLISH
X-PUBLISHED-TTL:P3D
REFRESH-INTERVAL:P3D
CALSCALE:GREGORIAN
BEGIN:VEVENT
DTSTART:20260128T230000Z
DTEND:20260129T003000Z
X-MICROSOFT-CDO-ALLDAYEVENT:FALSE
SUMMARY:Business Presentation
DESCRIPTION:Are you looking for a way to earn extra income now while building a legacy for future generations? Sweet T's Venture LLC offers a flexible\, scalable business opportunity through LegalShield and IDShield. Offering legal and identity protection services that people need every day.
X-ALT-DESC;FMTTYPE=text/html:Are you looking for a way to earn extra income now while building a legacy for future generations? Sweet T&#39\;s Venture LLC offers a flexible\, scalable business opportunity through LegalShield and IDShield. Offering legal and identity protection services that people need every day.
LOCATION:At BeYouti5 in the Dollar General Split Mall at 5452 S. Saginaw Street Flint MI 48507 across from the Grand Blanc Fire & Police Department
UID:e.2903.6477
SEQUENCE:3
DTSTAMP:20260421T143459Z
URL:https://business.grandblancchamberofcommerce.com/events/details/business-presentation-01-28-2026-6477
END:VEVENT

END:VCALENDAR
