BEGIN:VCALENDAR
VERSION:2.0
PRODID:-//ChamberMaster//Event Calendar 2.0//EN
METHOD:PUBLISH
X-PUBLISHED-TTL:P3D
REFRESH-INTERVAL:P3D
CALSCALE:GREGORIAN
BEGIN:VEVENT
DTSTART:20260113T210000Z
DTEND:20260113T220000Z
X-MICROSOFT-CDO-ALLDAYEVENT:FALSE
SUMMARY:Exhale Salon Ribbon Cutting
DESCRIPTION:Your well-being is everything\, and we're excited to celebrate it with a ribbon cutting alongside the Grand Blanc Chamber on Tuesday\, January 13th at 4:00 p.m. Exhale offers a welcoming space to reset\, recharge\, and feel your best through expert-led wellness spa services and fitness classes. We're proud to open our doors to the community and support well-being\, together.
X-ALT-DESC;FMTTYPE=text/html:<div class="tVu25" style="position: relative\; min-height: 100%\; color: rgb(32\, 33\, 36)\; font-family: &quot\;Google Sans&quot\;\, Roboto\, RobotoDraft\, Helvetica\, Arial\, sans-serif\; font-size: medium\;">\n<div class="nH" style="width: 1536px\;">\n<div class="nH" style="position: relative\;">\n<div class="nH aqk aql bkL" style="display: flex\; -webkit-box-orient: horizontal\; -webkit-box-direction: normal\; flex-direction: row\; background-color: transparent\; position: relative\; --gm3-sys-color-background: #fff\; --gm3-sys-color-background-rgb: 255\,255\,255\; --gm3-sys-color-error: #b3261e\; --gm3-sys-color-error-rgb: 179\,38\,30\; --gm3-sys-color-error-container: #f9dedc\; --gm3-sys-color-error-container-rgb: 249\,222\,220\; --gm3-sys-color-inverse-on-surface: #f2f2f2\; --gm3-sys-color-inverse-on-surface-rgb: 242\,242\,242\; --gm3-sys-color-inverse-primary: #a8c7fa\; --gm3-sys-color-inverse-primary-rgb: 168\,199\,250\; --gm3-sys-color-inverse-surface: #303030\; --gm3-sys-color-inverse-surface-rgb: 48\,48\,48\; --gm3-sys-color-on-background: #1f1f1f\; --gm3-sys-color-on-background-rgb: 31\,31\,31\; --gm3-sys-color-on-error: #fff\; --gm3-sys-color-on-error-rgb: 255\,255\,255\; --gm3-sys-color-on-error-container: #410e0b\; --gm3-sys-color-on-error-container-rgb: 65\,14\,11\; --gm3-sys-color-on-primary: #fff\; --gm3-sys-color-on-primary-rgb: 255\,255\,255\; --gm3-sys-color-on-primary-container: #041e49\; --gm3-sys-color-on-primary-container-rgb: 4\,30\,73\; --gm3-sys-color-on-primary-fixed: #041e49\; --gm3-sys-color-on-primary-fixed-rgb: 4\,30\,73\; --gm3-sys-color-on-primary-fixed-variant: #0842a0\; --gm3-sys-color-on-primary-fixed-variant-rgb: 8\,66\,160\; --gm3-sys-color-on-secondary: #fff\; --gm3-sys-color-on-secondary-rgb: 255\,255\,255\; --gm3-sys-color-on-secondary-container: #001d35\; --gm3-sys-color-on-secondary-container-rgb: 0\,29\,53\; --gm3-sys-color-on-secondary-fixed: #001d35\; --gm3-sys-color-on-secondary-fixed-rgb: 0\,29\,53\; --gm3-sys-color-on-secondary-fixed-variant: #004a77\; --gm3-sys-color-on-secondary-fixed-variant-rgb: 0\,74\,119\; --gm3-sys-color-on-surface: #1f1f1f\; --gm3-sys-color-on-surface-rgb: 31\,31\,31\; --gm3-sys-color-on-surface-variant: #444746\; --gm3-sys-color-on-surface-variant-rgb: 68\,71\,70\; --gm3-sys-color-on-tertiary: #fff\; --gm3-sys-color-on-tertiary-rgb: 255\,255\,255\; --gm3-sys-color-on-tertiary-container: #072711\; --gm3-sys-color-on-tertiary-container-rgb: 7\,39\,17\; --gm3-sys-color-on-tertiary-fixed: #072711\; --gm3-sys-color-on-tertiary-fixed-rgb: 7\,39\,17\; --gm3-sys-color-on-tertiary-fixed-variant: #0f5223\; --gm3-sys-color-on-tertiary-fixed-variant-rgb: 15\,82\,35\; --gm3-sys-color-outline: #747775\; --gm3-sys-color-outline-rgb: 116\,119\,117\; --gm3-sys-color-outline-variant: #c4c7c5\; --gm3-sys-color-outline-variant-rgb: 196\,199\,197\; --gm3-sys-color-primary: #0b57d0\; --gm3-sys-color-primary-rgb: 11\,87\,208\; --gm3-sys-color-primary-container: #d3e3fd\; --gm3-sys-color-primary-container-rgb: 211\,227\,253\; --gm3-sys-color-primary-fixed: #d3e3fd\; --gm3-sys-color-primary-fixed-rgb: 211\,227\,253\; --gm3-sys-color-primary-fixed-dim: #a8c7fa\; --gm3-sys-color-primary-fixed-dim-rgb: 168\,199\,250\; --gm3-sys-color-scrim: #000\; --gm3-sys-color-scrim-rgb: 0\,0\,0\; --gm3-sys-color-secondary: #00639b\; --gm3-sys-color-secondary-rgb: 0\,99\,155\; --gm3-sys-color-secondary-container: #c2e7ff\; --gm3-sys-color-secondary-container-rgb: 194\,231\,255\; --gm3-sys-color-secondary-fixed: #c2e7ff\; --gm3-sys-color-secondary-fixed-rgb: 194\,231\,255\; --gm3-sys-color-secondary-fixed-dim: #7fcfff\; --gm3-sys-color-secondary-fixed-dim-rgb: 127\,207\,255\; --gm3-sys-color-shadow: #000\; --gm3-sys-color-shadow-rgb: 0\,0\,0\; --gm3-sys-color-surface: #fff\; --gm3-sys-color-surface-rgb: 255\,255\,255\; --gm3-sys-color-surface-bright: #fff\; --gm3-sys-color-surface-bright-rgb: 255\,255\,255\; --gm3-sys-color-surface-container: #f0f4f9\; --gm3-sys-color-surface-container-rgb: 240\,244\,249\; --gm3-sys-color-surface-container-high: #e9eef6\; --gm3-sys-color-surface-container-high-rgb: 233\,238\,246\; --gm3-sys-color-surface-container-highest: #dde3ea\; --gm3-sys-color-surface-container-highest-rgb: 221\,227\,234\; --gm3-sys-color-surface-container-low: #f8fafd\; --gm3-sys-color-surface-container-low-rgb: 248\,250\,253\; --gm3-sys-color-surface-container-lowest: #fff\; --gm3-sys-color-surface-container-lowest-rgb: 255\,255\,255\; --gm3-sys-color-surface-dim: #d3dbe5\; --gm3-sys-color-surface-dim-rgb: 211\,219\,229\; --gm3-sys-color-surface-tint: #6991d6\; --gm3-sys-color-surface-tint-rgb: 105\,145\,214\; --gm3-sys-color-surface-variant: #e1e3e1\; --gm3-sys-color-surface-variant-rgb: 225\,227\,225\; --gm3-sys-color-tertiary: #146c2e\; --gm3-sys-color-tertiary-rgb: 20\,108\,46\; --gm3-sys-color-tertiary-container: #c4eed0\; --gm3-sys-color-tertiary-container-rgb: 196\,238\,208\; --gm3-sys-color-tertiary-fixed: #c4eed0\; --gm3-sys-color-tertiary-fixed-rgb: 196\,238\,208\; --gm3-sys-color-tertiary-fixed-dim: #6dd58c\; --gm3-sys-color-tertiary-fixed-dim-rgb: 109\,213\,140\;">\n<div class="nH bkK" style="overflow: hidden\; -webkit-box-flex: 1\; flex-grow: 1\;">\n<div class="nH" style="border-radius: 16px\; margin-bottom: 16px\; overflow-y: hidden\;">\n<div class="nH ar4 z">\n<div>\n<div class="AO" style="position: relative\;">\n<div class="Tm aeJ" id=":3" style="background-image: initial\; background-position: initial\; background-size: initial\; background-repeat: initial\; background-attachment: initial\; background-origin: initial\; background-clip: initial\; overflow-y: scroll\; padding-right: 0px\; height: 567px\;">\n<div class="aeF" id=":1" style="padding: 0px\; vertical-align: bottom\; min-height: 377.2px\;">\n<div class="nH">\n<div class="nH" jsaction="uqVD7e:.CLIENT" role="main">\n<div class="nH g" jsaction="iE7Vzc:.CLIENT\;v9KJX:.CLIENT">\n<div class="nH a98 iY" style="background-image: initial\; background-position: initial\; background-size: initial\; background-repeat: initial\; background-attachment: initial\; background-origin: initial\; background-clip: initial\; min-height: 64ex\; min-width: 502px\; margin: 0px\; padding-right: 16px\; position: static !important\;">\n<div class="nH">\n<div class="aHU hx" style="background-color: transparent\; color: rgb(34\, 34\, 34)\; min-width: 502px\; padding: 0px\; position: relative\;">\n<div jslog="20686\; u014N:xr6bB\; 1:WyIjdGhyZWFkLWY6MTg1Mjg1MTI4ODA5OTY5MjY5NSJd\; 4:W10." role="list">\n<div aria-expanded="true" class="h7 ie" jsaction="RUzSf:.CLIENT" role="listitem" style="padding-bottom: 0px\; max-width: 100000px\; clear: both\; outline: none\;" tabindex="-1">\n<div class="Bk" style="position: relative\; margin-bottom: 0px\; border-width: 0px\; border-top-style: solid\; border-right-style: initial\; border-bottom-style: initial\; border-left-style: initial\; border-top-color: rgb(239\, 239\, 239)\; border-right-color: initial\; border-left-color: initial\; border-image: initial\; border-bottom-color: initial\; border-radius: 0px\; float: left\; width: 1164px\;">\n<div class="G3 G2" style="border-top: none\; padding-top: 0px\; background-color: transparent\; border-right: 0px\; border-bottom: 0px rgba(100\, 121\, 143\, 0.12)\; border-left: 0px\; border-image: initial\; border-radius: 0px\; margin-bottom: 0px\; margin-left: 0px\; margin-right: 0px\;">\n<div id="avWBGd-29">\n<div id="avWBGd-30">\n<div class="adn ads" data-legacy-message-id="19b6a66e00cea097" data-message-id="#msg-f:1852851288099692695" style="border-left: none\; padding: 0px\; display: flex\;">\n<div class="gs" style="margin: 0px\; min-width: 0px\; padding: 0px 0px 20px\; width: auto\;">\n<div>\n<div class="ii gt" id=":me" jslog="20277\; u014N:xr6bB\; 1:WyIjdGhyZWFkLWY6MTg1Mjg1MTI4ODA5OTY5MjY5NSJd\; 4:WyIjbXNnLWY6MTg1Mjg1MTI4ODA5OTY5MjY5NSIsbnVsbCxudWxsLG51bGwsMSwwLFsxLDAsMF0sNTksMzcyLG51bGwsbnVsbCxudWxsLG51bGwsbnVsbCwxLG51bGwsbnVsbCxbMF0sbnVsbCxudWxsLG51bGwsbnVsbCxudWxsLG51bGwsMCwwXQ.." style="direction: ltr\; margin: 8px 0px 0px\; padding: 0px\; position: relative\; font-size: 0.875rem\; overflow-x: hidden\;">\n<div class="a3s aiL" id=":mf" style="direction: ltr\; font-variant-numeric: normal\; font-variant-east-asian: normal\; font-variant-alternates: normal\; font-size-adjust: none\; font-language-override: normal\; font-kerning: auto\; font-optical-sizing: auto\; font-feature-settings: normal\; font-variation-settings: normal\; font-variant-position: normal\; font-variant-emoji: normal\; font-stretch: normal\; font-size: small\; line-height: 1.5\; font-family: Arial\, Helvetica\, sans-serif\; overflow: auto hidden\; position: relative\;">\n<div id="avWBGd-51">\n<div style="font-size: inherit\;">\n<p style="color: rgb(0\, 0\, 0)\; font-size: inherit\;">Your well-being is everything\, and we&rsquo\;re excited to celebrate it with a ribbon cutting alongside the Grand Blanc Chamber on Tuesday\, January 13th at 4:00 p.m. Exhale offers a welcoming space to reset\, recharge\, and feel your best through expert-led wellness spa services and fitness classes. We&rsquo\;re proud to open our doors to the community and support well-being\, together.</p>\n\n<p style="color: rgb(0\, 0\, 0)\; font-size: inherit\;">&nbsp\;</p>\n</div>\n</div>\n</div>\n</div>\n</div>\n</div>\n</div>\n</div>\n</div>\n</div>\n</div>\n</div>\n</div>\n</div>\n</div>\n</div>\n</div>\n</div>\n</div>\n</div>\n</div>\n</div>\n</div>\n</div>\n</div>\n</div>\n</div>\n</div>\n</div>\n</div>\n
LOCATION:Exhale Salon 1174 W. Hill Rd. Flint\, MI 48507
UID:e.2903.7375
SEQUENCE:3
DTSTAMP:20260421T141826Z
URL:https://business.grandblancchamberofcommerce.com/events/details/exhale-salon-ribbon-cutting-7375
END:VEVENT

END:VCALENDAR
