BEGIN:VCALENDAR
VERSION:2.0
PRODID:-//ChamberMaster//Event Calendar 2.0//EN
METHOD:PUBLISH
X-PUBLISHED-TTL:P3D
REFRESH-INTERVAL:P3D
CALSCALE:GREGORIAN
BEGIN:VEVENT
DTSTART:20231006T113000Z
DTEND:20231006T130000Z
X-MICROSOFT-CDO-ALLDAYEVENT:FALSE
SUMMARY:Good Morning\, Grand Blanc Breakfast
DESCRIPTION:For nearly 40 years\, Regional Medical Imaging (RMI) has provided superior imaging services to physicians and patients throughout mid and southeast Michigan. At Regional Medical Imaging\, we strive to enhance the health and wellness of patients by providing affordable\, high-quality imaging with care.\n\nWe have the technology and expert clinical staff to offer a full range of Diagnostic and Interventional Radiology modalities\, including Bone Densitometry (DEXA)\; Breast MRI\; CT\; Fluoroscopy\; Image-Guided Biopsy and Drainage\; 3D Mammography\; MRI\; Nuclear Medicine\; PET/CT\; Spine and Pain Management procedures\; Ultrasound\; Vascular Access and Interventions\; and X-Ray.\n\nJust as importantly\, we give patients the personal attention and respect they deserve in a convenient\, clean\, and spa-like setting. Every RMI staff member\, from the front desk to our technologists and radiologists\, will go above and beyond to make every patient feel like a special guest.\n\n\n\nOctober is a particularly special month for RMI.  Focusing a great deal of its services on Women's health\, October   which is Breast Cancer Awareness Month   affords the company a host of opportunities to promote annual mammograms and other screenings particular to improving the health of all women within the company's service area.\n\nRMI Marketing Director Chuck Sheaffer is here to elaborate on a few of the many activities the company is promoting during the month.\n\n\n\nUnited Cancer Alliance (UCA) is the brainchild of Marcella Lloyd\, and it has been formally introduced within this calendar year.  Marcella has served as the Executive Assistant to Dr. Randy Hicks for the past several years\, and in doing so\, she has seen first-hand the struggles some patients have balancing the reality of facing cancer with the demands of everyday life.  Marcella's mission with UCA is to identify and fill financial gaps for these individuals\, allowing them to focus more fully on defeating cancer.
X-ALT-DESC;FMTTYPE=text/html:<span style="color:#292b2c\;">For nearly 40 years\, Regional Medical Imaging (RMI) has provided superior imaging services to physicians and patients throughout mid and southeast Michigan. At Regional Medical Imaging\, we strive to enhance the health and wellness of patients by providing affordable\, high-quality imaging with care.</span><br />\n<span style="color:#292b2c\;">We have the technology and expert clinical staff to offer a full range of Diagnostic and Interventional Radiology modalities\, including Bone Densitometry (DEXA)\; Breast MRI\; CT\; Fluoroscopy\; Image-Guided Biopsy and Drainage\; 3D Mammography\; MRI\; Nuclear Medicine\; PET/CT\; Spine and Pain Management procedures\; Ultrasound\; Vascular Access and Interventions\; and X-Ray.</span><br />\n<span style="color:#292b2c\;">Just as importantly\, we give patients the personal attention and respect they deserve in a convenient\, clean\, and spa-like setting. Every RMI staff member\, from the front desk to our technologists and radiologists\, will go above and beyond to make every patient feel like a special guest.</span><br />\n<br />\n<span style="color:#292b2c\;">October is a particularly special month for RMI.&nbsp\; Focusing a great deal of its services on Women&rsquo\;s health\, October &ndash\; which is Breast Cancer Awareness Month &ndash\; affords the company a host of opportunities to promote annual mammograms and other screenings particular to improving the health of all women within the company&rsquo\;s service area.</span><br />\n<span style="color:#292b2c\;">RMI Marketing Director Chuck Sheaffer is here to elaborate on a few of the many activities the company is promoting during the month.</span><br />\n<br />\nUnited Cancer Alliance (UCA) is the brainchild of Marcella Lloyd\, and it has been formally introduced within this calendar year.&nbsp\; Marcella has served as the Executive Assistant to Dr. Randy Hicks for the past several years\, and in doing so\, she has seen first-hand the struggles some patients have balancing the reality of facing cancer with the demands of everyday life.&nbsp\; Marcella&rsquo\;s mission with UCA is to identify and fill financial gaps for these individuals\, allowing them to focus more fully on defeating cancer.
LOCATION:ELGA Credit Union HQ 6065 Grand Pointe Blvd Grand Blanc\, Michigan 48439
UID:e.2903.5054
SEQUENCE:3
DTSTAMP:20260423T135105Z
URL:https://business.grandblancchamberofcommerce.com/events/details/good-morning-grand-blanc-breakfast-5054
END:VEVENT

END:VCALENDAR
