BEGIN:VCALENDAR
VERSION:2.0
PRODID:-//ChamberMaster//Event Calendar 2.0//EN
METHOD:PUBLISH
X-PUBLISHED-TTL:P3D
REFRESH-INTERVAL:P3D
CALSCALE:GREGORIAN
BEGIN:VEVENT
DTSTART:20240528T113000Z
DTEND:20240528T130000Z
X-MICROSOFT-CDO-ALLDAYEVENT:FALSE
SUMMARY:The Leadership Tune Up
DESCRIPTION:Amp up your sales results! Join David Harrell\, owner of Leadership Consulting Services\, for an eight part series on sharpening your sales and leadership skills. Secure your spot today! \n\n\n\nMasterStream was created for American Express Financial Advisors and after being delivered to the 84th performing office in the country\, they rose to number 4 in 18 months.  This program has been customized and delivered to many Fortune 1000 companies.  The key to the program is "Paying Attention to Tension" as that is the key element that drives all performance. MasterStream provides the necessary skills for best understanding your prospects needs and challenges in a way that inspires action.
X-ALT-DESC;FMTTYPE=text/html:Amp up your sales results! Join David Harrell\, owner of Leadership Consulting Services\, for an eight part series on sharpening your sales and leadership skills. Secure your spot today!&nbsp\;<br />\n<br />\n<span style="color: rgb(34\, 34\, 34)\; font-family: Arial\, Helvetica\, sans-serif\; font-size: small\;">MasterStream was created for American Express Financial Advisors and after being delivered to the 84</span><sup style="color: rgb(34\, 34\, 34)\; font-family: Arial\, Helvetica\, sans-serif\;">th</sup><span style="color: rgb(34\, 34\, 34)\; font-family: Arial\, Helvetica\, sans-serif\; font-size: small\;">&nbsp\;performing office in the country\, they rose to number 4 in 18 months.&nbsp\; This program has been customized and delivered to many Fortune 1000 companies.&nbsp\; The key to the program is &ldquo\;Paying Attention to Tension&rdquo\; as that is the key element that drives all performance.&nbsp\;</span><span style="color: rgb(34\, 34\, 34)\; font-family: Arial\, Helvetica\, sans-serif\; font-size: small\;">MasterStream provides the necessary skills for best understanding your prospects needs and challenges in a way that inspires action.&nbsp\;</span>
LOCATION:Virtual Sessions Every Tuesday 7:30-9am May 7 - June 25\, 2024
UID:e.2903.5308
SEQUENCE:3
DTSTAMP:20260423T033721Z
URL:https://business.grandblancchamberofcommerce.com/events/details/masterstream-precision-selling-techniques-05-28-2024-5308
END:VEVENT

END:VCALENDAR
