BEGIN:VCALENDAR
VERSION:2.0
PRODID:-//ChamberMaster//Event Calendar 2.0//EN
METHOD:PUBLISH
X-PUBLISHED-TTL:P3D
REFRESH-INTERVAL:P3D
CALSCALE:GREGORIAN
BEGIN:VEVENT
DTSTART;VALUE=DATE:20260516
DTEND;VALUE=DATE:20260517
TRANSP:TRANSPARENT
X-MICROSOFT-CDO-ALLDAYEVENT:TRUE
SUMMARY:O'Reilly Auto Parts - Grand Blanc // Grand Opening and Ribbon Cutting
DESCRIPTION:Join us in celebrating the Grand Opening and Ribbon Cutting for O'Reilly Auto Parts in Grand Blanc! This all-day celebration will feature food\, fun\, and activities from 11:00 AM to 3:00 PM. Come tour the brand-new store\, meet the friendly new team\, and connect with industry partners including special guests from ACDelco who will be on hand for the festivities. It's a great opportunity to check out the latest in automotive parts and services while enjoying a community celebration you won't want to miss!
X-ALT-DESC;FMTTYPE=text/html:<p>Join us in celebrating the Grand Opening and Ribbon Cutting for O&#39\;Reilly Auto Parts in Grand Blanc! This all-day celebration will feature food\, fun\, and activities from 11:00 AM to 3:00 PM. Come tour the brand-new store\, meet the friendly new team\, and connect with industry partners&mdash\;including special guests from ACDelco who will be on hand for the festivities. It&rsquo\;s a great opportunity to check out the latest in automotive parts and services while enjoying a community celebration you won&rsquo\;t want to miss!</p>\n
LOCATION:O'Reilly Auto Parts 12720 S. Saginaw St / Near Holly Rd Grand Blanc\, MI 48439
UID:e.2903.7791
SEQUENCE:3
DTSTAMP:20260423T230857Z
URL:https://business.grandblancchamberofcommerce.com/events/details/o-reilly-auto-parts-grand-blanc-grand-opening-and-ribbon-cutting-7791
END:VEVENT

END:VCALENDAR
