BEGIN:VCALENDAR
VERSION:2.0
PRODID:-//ChamberMaster//Event Calendar 2.0//EN
METHOD:PUBLISH
X-PUBLISHED-TTL:P3D
REFRESH-INTERVAL:P3D
CALSCALE:GREGORIAN
BEGIN:VEVENT
DTSTART:20240522T153000Z
DTEND:20240522T170000Z
X-MICROSOFT-CDO-ALLDAYEVENT:FALSE
SUMMARY:Women's Wednesday Lunch
DESCRIPTION:Join the Davison Chamber of Commerce at Kendrick Sports Training for the second Women's Lunch Wednesday! \n\nGuest speakers include Shirley Kautman-Jones\, supervisor for Atlas Township and owner of Country Home Creations. Also speaking will be Sherri Stephens\, President/CEO of Stephens Wealth Management Group. \n\n\n\nCost is $10\, lunch is provided and all proceeds go to the Women's Lunch Wednesday fund for future events and speakers. Tickets can be purchased here. Space is limited\, sign up now!
X-ALT-DESC;FMTTYPE=text/html:Join the Davison Chamber of Commerce at Kendrick Sports Training for the second Women&#39\;s Lunch Wednesday!&nbsp\;<br />\nGuest speakers include Shirley Kautman-Jones\, supervisor for Atlas Township and owner of Country Home Creations. Also speaking will be Sherri Stephens\, President/CEO of Stephens Wealth Management Group.&nbsp\;<br />\n<br />\nCost is $10\, lunch is provided and all proceeds go to the Women&#39\;s Lunch Wednesday fund for future events and speakers. Tickets can be <a href="https://checkout.square.site/merchant/ML8ZGDTT7JKP2/checkout/KTSK3BENYOPMYHUQO4LXG2U3?src=qr">purchased here</a>. Space is limited\, sign up now!&nbsp\;
LOCATION:Kendrick Sports Training 8467 Davison Rd. Davison\, MI 48423
UID:e.2903.5126
SEQUENCE:3
DTSTAMP:20260423T033922Z
URL:https://business.grandblancchamberofcommerce.com/events/details/women-s-wednesday-lunch-5126
END:VEVENT

END:VCALENDAR
